BEGIN:VCALENDAR
VERSION:2.0
PRODID:-//Plone.org//NONSGML plone.app.event//EN
X-WR-TIMEZONE:Europe/Vienna
BEGIN:VEVENT
SUMMARY:Ökologie\, Form und Gestaltung - Gegensätze oder Einheit?
DTSTART;VALUE=DATE-TIME:20180611T170000Z
DTSTAMP;VALUE=DATE-TIME:20260422T231647Z
UID:79f4f6590ba14953b7167f1e44c151be@127.0.0.1:10150
CREATED;VALUE=DATE-TIME:20180607T093601Z
DESCRIPTION:Eine Diskussion im Nachgang zur Aktion "Der schönste Garten v
 on Winterthur"
LAST-MODIFIED;VALUE=DATE-TIME:20190529T131435Z
LOCATION:Forum Architektur\, Zürcherstrasse 43\, 8400 Winterthur
URL:https://stadt.winterthur.ch/themen/leben-in-winterthur/freizeit-und-sp
 ort/ausflugsziele-freiraeume/stadtgruen-veranstaltungen/oekolige-form-und-
 gestaltung-gegensaetze-oder-einheit
END:VEVENT
END:VCALENDAR
